BEGIN:VCALENDAR
PRODID:-//eluceo/ical//2.0/EN
VERSION:2.0
CALSCALE:GREGORIAN
BEGIN:VEVENT
UID:f988b4ce1781a9757f6e2bd34f07ac29
DTSTAMP:20260421T022428Z
SUMMARY:Déjeuner chez Danik
DESCRIPTION:
URL:https://bulle.rotary1990.ch/es/agenda/show/12884
DTSTART;TZID=Europe/Zurich:20091130T070000
DTEND;TZID=Europe/Zurich:20091130T070000
LOCATION:Tea Room &quot\;Le Comte Michel&quot\;
CATEGORIES:Rotary
END:VEVENT
BEGIN:VTIMEZONE
TZID:Europe/Zurich
BEGIN:STANDARD
DTSTART:20091130T070000
TZNAME:CET
TZOFFSETTO:+0100
TZOFFSETFROM:+0100
END:STANDARD
END:VTIMEZONE
END:VCALENDAR
